BEGIN:VCALENDAR
VERSION:2.0
PRODID:-//ChamberMaster//Event Calendar 2.0//EN
METHOD:PUBLISH
X-PUBLISHED-TTL:P3D
REFRESH-INTERVAL:P3D
CALSCALE:GREGORIAN
BEGIN:VEVENT
DTSTART:20131012T160000Z
DTEND:20131012T180000Z
X-MICROSOFT-CDO-ALLDAYEVENT:FALSE
SUMMARY:Zombi 5k
DESCRIPTION:Get ready to run for your lives!  The premier fun run.   This isn't your ordinary fun run.  No one will spray you with color.  You won't get to chase cupid.  And don't even think about cute outfits for the team...the zombies don't care.  Thats right zombies.  Zombies that can crawl\, stumble and oh yeah...RUN.  Runners get three life flags on a belt.  To our zombies those flags smell alot like brains.  Its three and a half miles of pure adrenaline.  The apocalypse comes to St. George on October 12th.  Are you ready?   http://www.zombi5k.com/  Thats zombi without an E 5k.com
X-ALT-DESC;FMTTYPE=text/html:Get ready to run for your lives! &nbsp\;The premier fun run. &nbsp\; This isn&#39\;t your ordinary fun run. &nbsp\;No one will spray you with color. &nbsp\;You won&#39\;t get to chase cupid. &nbsp\;And don&#39\;t even think about cute outfits for the team...the zombies don&#39\;t care. &nbsp\;Thats right zombies. &nbsp\;Zombies that can crawl\, stumble and oh yeah...RUN. &nbsp\;Runners get three life flags on a belt. &nbsp\;To our zombies those flags smell alot like brains. &nbsp\;Its three and a half miles of pure adrenaline. &nbsp\;The apocalypse comes to St. George on October 12th. &nbsp\;Are you ready? &nbsp\; http://www.zombi5k.com/ &nbsp\;Thats zombi without an E 5k.com
LOCATION:Old Municipal airport
UID:e.1117.4252
SEQUENCE:3
DTSTAMP:20260421T195407Z
URL:https://business.stgeorgechamber.com/events/details/zombi-5k-10-12-2013-4252
END:VEVENT

END:VCALENDAR
