BEGIN:VCALENDAR
VERSION:2.0
PRODID:-//ChamberMaster//Event Calendar 2.0//EN
METHOD:PUBLISH
X-PUBLISHED-TTL:P3D
REFRESH-INTERVAL:P3D
CALSCALE:GREGORIAN
BEGIN:VEVENT
DTSTART:20210922T003000Z
DTEND:20210922T020000Z
X-MICROSOFT-CDO-ALLDAYEVENT:FALSE
SUMMARY:Zion Trophies and Awards Business After Hours
DESCRIPTION:Join us at Zion Trophies and Awards to create your own trophy\, design and etch your own award\, or engrave your own water bottle! Zion Trophies and Awards is a new business to the area and to the Chamber and we are excited to get to know them and what they do. Chamber members and their friends and family can design and create their own Acrylic Award for $10 or etch your own name or design into a water bottle for $3 plus the cost of the bottle.
X-ALT-DESC;FMTTYPE=text/html:Join us at Zion Trophies and Awards to create your own trophy\, design and etch your own award\, or engrave your own water bottle! Zion Trophies and Awards is a new business to the area and to the Chamber and we are excited to get to know them and what they do. Chamber members and their friends and family can design and create their own Acrylic Award for $10 or etch your own name or design into a water bottle for $3 plus the cost of the bottle.
LOCATION:Zion Trophies and Awards
UID:e.1117.16181
SEQUENCE:3
DTSTAMP:20260425T033859Z
URL:https://business.stgeorgechamber.com/events/details/zion-trophies-and-awards-business-after-hours-16181
END:VEVENT

END:VCALENDAR
