BEGIN:VCALENDAR
VERSION:2.0
PRODID:-//ChamberMaster//Event Calendar 2.0//EN
METHOD:PUBLISH
X-PUBLISHED-TTL:P3D
REFRESH-INTERVAL:P3D
CALSCALE:GREGORIAN
BEGIN:VEVENT
DTSTART:20150420T220000Z
DTEND:20150421T010000Z
X-MICROSOFT-CDO-ALLDAYEVENT:FALSE
SUMMARY:Zion National Park Openhouse
DESCRIPTION:In commemoration of National Park Week - You're invited to a Zion National Park Openhouse. Visit with new Zion National Park Superintendent Jeff Bradybaugh\, Superintendent Paul Roelandt of Cedar Breaks\, and Superintendent John Hiscock of Pipe Spring. Find out how Zion's Youth Education Initiative is touching the lives of thousands of area children. Learn how the parks affect you and how you can support your parks. Enjoy light refreshments. Bid on exciting park related items in a silent auction. Free to the public. Hosted by the Zion Natural History Association\, Zion National Park Foundation\, and St. George Area Tourism Office.
X-ALT-DESC;FMTTYPE=text/html:In commemoration of National Park Week - You&#39\;re invited to a Zion National Park Openhouse. Visit with new Zion National Park Superintendent Jeff Bradybaugh\, Superintendent Paul Roelandt of Cedar Breaks\, and Superintendent John Hiscock of Pipe Spring. Find out how Zion&#39\;s Youth Education Initiative is touching the lives of thousands of area children. Learn how the parks affect you and how you can support your parks. Enjoy light refreshments. Bid on exciting park related items in a silent auction. Free to the public. Hosted by the Zion Natural History Association\, Zion National Park Foundation\, and St. George Area Tourism Office.
LOCATION:Dixie Convention Center Garden Room 1835 Convention Center Dr. St. George\, UT 84770
UID:e.1117.6360
SEQUENCE:3
DTSTAMP:20260420T190837Z
URL:https://business.stgeorgechamber.com/events/details/zion-national-park-openhouse-04-20-2015-6360
END:VEVENT

END:VCALENDAR
