BEGIN:VCALENDAR
VERSION:2.0
PRODID:-//ChamberMaster//Event Calendar 2.0//EN
METHOD:PUBLISH
X-PUBLISHED-TTL:P3D
REFRESH-INTERVAL:P3D
CALSCALE:GREGORIAN
BEGIN:VEVENT
DTSTART:20150306T000000Z
DTEND:20150306T020000Z
X-MICROSOFT-CDO-ALLDAYEVENT:FALSE
SUMMARY:Zion Music Ensembles Jazz Concert
DESCRIPTION:In September\, the first New Horizons Band and Orchestra?Zion Music Ensembles?was launched for adults in the St. George Area. Members currently receive instruction and a chance to play instruments\, such as violin or clarinet. This is an innovative program designed to give adults the chance they missed in youth to develop their musical skills. The very special New Horizons groups are made up exclusively of adults (ages 40 to 85+)\, many of whom\, up until recently\, had never even picked up a musical instrument. Zion Music Ensembles is sponsored by The Difiore Center\, Westside Baptist Church\, Dixie State University\, The Music Store\, and St. George Arts Commission.
X-ALT-DESC;FMTTYPE=text/html:In September\, the first New Horizons Band and Orchestra?Zion Music Ensembles?was launched for adults in the St. George Area. Members currently receive instruction and a chance to play instruments\, such as violin or clarinet. This is an innovative program designed to give adults the chance they missed in youth to develop their musical skills. The very special New Horizons groups are made up exclusively of adults (ages 40 to 85+)\, many of whom\, up until recently\, had never even picked up a musical instrument. Zion Music Ensembles is sponsored by The Difiore Center\, Westside Baptist Church\, Dixie State University\, The Music Store\, and St. George Arts Commission.
LOCATION:The Westside Baptist Church 2299 West 2000 North St George\, Utah 84770
UID:e.1117.6302
SEQUENCE:3
DTSTAMP:20260420T191139Z
URL:https://business.stgeorgechamber.com/events/details/zion-music-ensembles-jazz-concert-03-05-2015-6302
END:VEVENT

END:VCALENDAR
