BEGIN:VCALENDAR
VERSION:2.0
PRODID:-//ChamberMaster//Event Calendar 2.0//EN
METHOD:PUBLISH
X-PUBLISHED-TTL:P3D
REFRESH-INTERVAL:P3D
CALSCALE:GREGORIAN
BEGIN:VEVENT
DTSTART:20150902T003000Z
DTEND:20150902T020000Z
X-MICROSOFT-CDO-ALLDAYEVENT:FALSE
SUMMARY:Zion Music Ensembles
DESCRIPTION:NEW HORIZONS BAND AND ORCHESTRA WELCOME NEW CONDUCTOR AND ANNOUNCE NEW OPPORTUNITIES FOR SENIORS. Fall Session: September-December\; Open House with instruments to try: Sept. 1st at 6:30pm Classes start: September 8th Class Times: Band--Tues/Thurs 4:30-6:30pm\, Orchestra--Tues/Thurs 7:00-9:00pm * Spring Session: January - April * Summer Session: May - August Information online at http://www.zionmusicensembles. Contact: Orchestra--Teri Lynn Holt Horne\, (801) 792-7458 Band--Kirk K. Jones\, (435) 772-1005\, kirkkjones@gmail.com Website: http://www.zionmusicensembles.com/
X-ALT-DESC;FMTTYPE=text/html:NEW HORIZONS BAND AND ORCHESTRA WELCOME NEW CONDUCTOR AND ANNOUNCE NEW OPPORTUNITIES FOR SENIORS. Fall Session: September-December\; Open House with instruments to try: Sept. 1st at 6:30pm Classes start: September 8th Class Times: Band--Tues/Thurs 4:30-6:30pm\, Orchestra--Tues/Thurs 7:00-9:00pm * Spring Session: January -&nbsp\;April * Summer Session: May - August Information online at http://www.zionmusicensembles. Contact: Orchestra--Teri Lynn Holt Horne\, (801) 792-7458 Band--Kirk K. Jones\, (435) 772-1005\, kirkkjones@gmail.com Website: http://www.zionmusicensembles.com/
LOCATION:Westside Baptist Church\, 2299 West 2000 North\, St. George
UID:e.1117.7047
SEQUENCE:3
DTSTAMP:20260420T100734Z
URL:https://business.stgeorgechamber.com/events/details/zion-music-ensembles-09-01-2015-7047
END:VEVENT

END:VCALENDAR
