BEGIN:VCALENDAR
VERSION:2.0
PRODID:-//ChamberMaster//Event Calendar 2.0//EN
METHOD:PUBLISH
X-PUBLISHED-TTL:P3D
REFRESH-INTERVAL:P3D
CALSCALE:GREGORIAN
BEGIN:VEVENT
DTSTART;VALUE=DATE:20130517
DTEND;VALUE=DATE:20130518
TRANSP:TRANSPARENT
X-MICROSOFT-CDO-ALLDAYEVENT:TRUE
SUMMARY:Zion Flute Festival
DESCRIPTION:The Zion Flute Festival presents Native American music in concert at the amphitheater. Each show begins at 7:30 p.m. and features headliners Robert Mirabal\, Bill Miller\, Jeff Ball Band\, Scott August\, Rona Yellowrobe and Cornell Kinderkecht.
X-ALT-DESC;FMTTYPE=text/html:<span style="color: rgb(69\, 69\, 69)\; font-family: Tahoma\, Geneva\, 'DejaVu Sans Condensed'\, sans-serif\;">The Zion Flute Festival presents Native American music in concert at the amphitheater. Each show begins at 7:30 p.m. and features headliners Robert Mirabal\, Bill Miller\, Jeff Ball Band\, Scott August\, Rona Yellowrobe and Cornell Kinderkecht.</span>
LOCATION:
UID:e.1117.2955
SEQUENCE:3
DTSTAMP:20260422T041721Z
URL:https://business.stgeorgechamber.com/events/details/zion-flute-festival-05-17-2013-2955
END:VEVENT

END:VCALENDAR
