BEGIN:VCALENDAR
VERSION:2.0
PRODID:-//ChamberMaster//Event Calendar 2.0//EN
METHOD:PUBLISH
X-PUBLISHED-TTL:P3D
REFRESH-INTERVAL:P3D
CALSCALE:GREGORIAN
BEGIN:VEVENT
DTSTART:20130420T180000Z
DTEND:20130420T230000Z
X-MICROSOFT-CDO-ALLDAYEVENT:FALSE
SUMMARY:Zion Canyon's 9th Annual Earth Day Celebration
DESCRIPTION:The Town of Springdale\, in cooperation with Zion National Park\, Zion Natural History Association\, and Z-Arts\, is sponsoring its 9th Annual Earth Day Celebration on Saturday\, April 20th. The celebration will feature live\, solar-powered music from local bands along with earth friendly information tables\, vendors\, and demonstrations. The event\, including a silent auction and beer garden\, takes place from 12 to 5 p.m. on the lawn of the Bit & Spur Restaurant located at 1212 Zion Park Blvd. in Springdale\, Utah.
X-ALT-DESC;FMTTYPE=text/html:<p class="MsoNormal">\n	The Town of Springdale\, in cooperation with Zion National Park\, Zion Natural History Association\, and Z-Arts\, is sponsoring its 9<sup>th</sup> Annual Earth Day Celebration on <b>Saturday\, April 20<sup>th</sup></b>. The celebration will feature live\, solar-powered music from local bands along with earth friendly information tables\, vendors\, and demonstrations. The event\, including a silent auction and beer garden\, takes place from <b>12 to 5 p.m.</b> on the lawn of the Bit &amp\; Spur Restaurant located at <st1:address w:st="on">1212 Zion Park Blvd.</st1:address> in <st1:city w:st="on"><st1:place w:st="on">Springdale</st1:place>\, <st1:state w:st="on">Utah</st1:state></st1:city>.<o:p></o:p></p>\n
LOCATION:Lawn of the Bit & Spur Restaurant\, Springdale\, UT
UID:e.1117.2902
SEQUENCE:3
DTSTAMP:20260422T060755Z
URL:https://business.stgeorgechamber.com/events/details/zion-canyon-s-9th-annual-earth-day-celebration-04-20-2013-2902
END:VEVENT

END:VCALENDAR
