BEGIN:VCALENDAR
VERSION:2.0
PRODID:-//ChamberMaster//Event Calendar 2.0//EN
METHOD:PUBLISH
X-PUBLISHED-TTL:P3D
REFRESH-INTERVAL:P3D
CALSCALE:GREGORIAN
BEGIN:VEVENT
DTSTART:20140419T170000Z
DTEND:20140419T230000Z
X-MICROSOFT-CDO-ALLDAYEVENT:FALSE
SUMMARY:Zion Canyon 10th Annual Earth Day Celebration
DESCRIPTION:The town of Springdale in cooperation with Zion National Park will celebrate the 10th Annual Zion Canyon Earth Day in Springdale on Saturday April 19th\, 2014. This annual event draws 1000 or more visitors to help celebrate our beautiful home. Live solar powered music will be accompanied by art and food vendors as well as activities and demonstrations about alternative energy\, native plants\, solar ovens\, environmental art\, and sustainable products. The Technology Trailer from Southern Utah University will be demonstrating a variety of hands-on clean energy alternatives. Kids can participate in the Leave No Trace (LNT) ethics taught by the LNT Traveling Trainers and a reading of Dr. Seuss? ?The Lorax.? The event\, including a silent auction and beer & wine garden\, takes place on the lawn of the Bit & Spur Restaurant at 1212 Zion Park Boulevard from 11:00 A.M. to 5:00 P.M.
X-ALT-DESC;FMTTYPE=text/html:The town of Springdale in cooperation with Zion National Park will celebrate the 10th Annual Zion Canyon Earth Day in Springdale on Saturday April 19th\, 2014. This annual event draws 1000 or more visitors to help celebrate our beautiful home. Live solar powered music will be accompanied by art and food vendors as well as activities and demonstrations about alternative energy\, native plants\, solar ovens\, environmental art\, and sustainable products. The Technology Trailer from Southern Utah University will be demonstrating a variety of hands-on clean energy alternatives. Kids can participate in the Leave No Trace (LNT) ethics taught by the LNT Traveling Trainers and a reading of Dr. Seuss? ?The Lorax.? The event\, including a silent auction and beer &amp\; wine garden\, takes place on the lawn of the Bit &amp\; Spur Restaurant at 1212 Zion Park Boulevard from 11:00 A.M. to 5:00 P.M.
LOCATION:Bit & Spur Lawn\, 1212 Zion Park Blvd\, Springdale UT 84767.
UID:e.1117.5072
SEQUENCE:3
DTSTAMP:20260421T125912Z
URL:https://business.stgeorgechamber.com/events/details/zion-canyon-10th-annual-earth-day-celebration-04-19-2014-5072
END:VEVENT

END:VCALENDAR
