BEGIN:VCALENDAR
VERSION:2.0
PRODID:-//ChamberMaster//Event Calendar 2.0//EN
METHOD:PUBLISH
X-PUBLISHED-TTL:P3D
REFRESH-INTERVAL:P3D
CALSCALE:GREGORIAN
BEGIN:VEVENT
DTSTART:20141010T150000Z
DTEND:20141012T230000Z
X-MICROSOFT-CDO-ALLDAYEVENT:FALSE
SUMMARY:Zapotec Rug Event
DESCRIPTION:1/2 Million Dollars of Inventory\n\nAll sizes and colors\n\nFloor rugs\n\nTable runners\n\nPillows\n\nPlacemats\n\nCoasters
X-ALT-DESC;FMTTYPE=text/html:1/2 Million Dollars of Inventory<br />\nAll sizes and colors<br />\nFloor rugs<br />\nTable runners<br />\nPillows<br />\nPlacemats<br />\nCoasters<br />\n&nbsp\;
LOCATION:2691 Santa Clara Drive Santa Clara
UID:e.1117.6159
SEQUENCE:3
DTSTAMP:20260421T042024Z
URL:https://business.stgeorgechamber.com/events/details/zapotec-rug-event-10-10-2014-6159
END:VEVENT

END:VCALENDAR
