BEGIN:VCALENDAR
VERSION:2.0
PRODID:-//ChamberMaster//Event Calendar 2.0//EN
METHOD:PUBLISH
X-PUBLISHED-TTL:P3D
REFRESH-INTERVAL:P3D
CALSCALE:GREGORIAN
BEGIN:VEVENT
DTSTART:20210309T183000Z
DTEND:20210309T200000Z
X-MICROSOFT-CDO-ALLDAYEVENT:FALSE
SUMMARY:Young Professionals Professional Development - Shadman Bashir- Director of International Student Services at DSU
DESCRIPTION:Join us as we listen to former Professor of Law and Global Affairs\, with focus on International Development/Management\, Defense and Warfare\, Comparative Laws\, Governments and Global issues. \n\n\n\nShadman Bashir is a published author and speaker on topics including but not limited to Law\, Religion\, Artificial Intelligence\, Business\, Globalization\, Warfare and Terrorism. Currently\, the Director of the International Student Services at Dixie State University\, responsible for growth\, expansion and legal compliance.\nLimited to 20 so register now! \n\n\n\nBio: Shadman Bashir - The Director of the International Student Services at Dixie State University and visiting Professor of Law at the Udvar Hazy School of Business. A native of the Pakistani tribal region\, speaks six languages and multiple dialects. He earned a Bachelor of Arts in Political Science from Edwardes College and a degree in English and Islamic Law from the University of Peshawar in Peshawar\, Pakistan. He later moved to the U.S. and earned a master's degree in comparative law from California Western School of Law in San Diego. He has given lectures at the US Military Academy West Point\, United States Air force AFWERX\, Kennedy Center at BYU\, and many other institutions of higher learning.
X-ALT-DESC;FMTTYPE=text/html:<span style="font-size:18px\;">Join us as we listen to former Professor of Law and Global Affairs\, with focus on International Development/Management\, Defense and Warfare\, Comparative Laws\, Governments and Global issues.&nbsp\;<br />\n<br />\nShadman Bashir is a published author and speaker on topics including but not limited to Law\, Religion\, Artificial Intelligence\, Business\, Globalization\, Warfare and Terrorism. Currently\, the Director of the International Student Services at Dixie State University\, responsible for growth\, expansion and legal compliance.</span>\n<p color:="" helvetica=""><span style="font-size:18px\;">Limited to 20 so register now!&nbsp\;<br />\n<br />\nBio: Shadman Bashir - The Director of the International Student Services at Dixie State University and visiting Professor of Law at the Udvar Hazy School of Business. A native of the Pakistani tribal region\, speaks six languages and multiple dialects. He earned a Bachelor of Arts in Political Science from Edwardes College and a degree in English and Islamic Law from the University of Peshawar in Peshawar\, Pakistan. He later moved to the U.S. and earned a master&rsquo\;s degree in comparative law from California Western School of Law in San Diego. He has given lectures at the US Military Academy West Point\, United States Air force AFWERX\, Kennedy Center at BYU\, and many other institutions of higher learning.</span></p>\n
LOCATION:St. George Area Chamber of Commerce - DSU Training Room (downstairs) 136 N. 100 E.
UID:e.1117.16001
SEQUENCE:3
DTSTAMP:20260421T050837Z
URL:https://business.stgeorgechamber.com/events/details/young-professionals-professional-development-shadman-bashir-director-of-international-student-services-at-dsu-16001
END:VEVENT

END:VCALENDAR
