BEGIN:VCALENDAR
VERSION:2.0
PRODID:-//ChamberMaster//Event Calendar 2.0//EN
METHOD:PUBLISH
X-PUBLISHED-TTL:P3D
REFRESH-INTERVAL:P3D
CALSCALE:GREGORIAN
BEGIN:VEVENT
DTSTART:20250318T173000Z
DTEND:20250318T190000Z
X-MICROSOFT-CDO-ALLDAYEVENT:FALSE
SUMMARY:Young Professionals Lunch W/ a Leader - RS Technologies
DESCRIPTION:This month's Lunch With a Leader we will hear from Ken Kaneversky\, part of the team at Resilient Structures. RS manufactures composite utility poles and installs them throughout the nation.
X-ALT-DESC;FMTTYPE=text/html:This month&#39\;s Lunch With a Leader we will hear from Ken Kaneversky\, part of the team at Resilient Structures. RS manufactures composite utility poles and installs them throughout the nation.&nbsp\;
LOCATION:RS Poles
UID:e.1117.18035
SEQUENCE:3
DTSTAMP:20260421T125020Z
URL:https://business.stgeorgechamber.com/events/details/young-professionals-lunch-w-a-leader-rs-technologies-18035
END:VEVENT

END:VCALENDAR
