BEGIN:VCALENDAR
VERSION:2.0
PRODID:-//ChamberMaster//Event Calendar 2.0//EN
METHOD:PUBLISH
X-PUBLISHED-TTL:P3D
REFRESH-INTERVAL:P3D
CALSCALE:GREGORIAN
BEGIN:VEVENT
DTSTART:20251205T003000Z
DTEND:20251205T030000Z
X-MICROSOFT-CDO-ALLDAYEVENT:FALSE
SUMMARY:YOUNG PROFESSIONALS | Holiday Social
DESCRIPTION:Join us in spreading holiday cheer next week at our free Holiday Social! Help us craft heartwarming cards and assemble goodie bags for a local senior home while mingling with other young professionals. Let's make this season brighter for those who may need a little extra love. Treats and hot cocoa will be provided.
X-ALT-DESC;FMTTYPE=text/html:<p class="m_8514124724773560452p1" style="margin: 0in\; font-size: 10pt\; font-family: &quot\;Helvetica Neue&quot\;\; color: rgb(34\, 34\, 34)\;"><span style="font-size:22px\;">Join us in spreading holiday cheer next week at our free Holiday Social! Help us craft heartwarming cards and assemble goodie bags for a local senior home while mingling with other young professionals. Let&rsquo\;s make this season brighter for those who may need a little extra love. Treats and hot cocoa will be provided.</span></p>\n\n<p class="m_8514124724773560452p2" style="margin: 0in\; font-size: 10pt\; font-family: &quot\;Helvetica Neue&quot\;\; color: rgb(34\, 34\, 34)\;">&nbsp\;</p>\n
LOCATION:St. George Chamber of Commerce
UID:e.1117.18487
SEQUENCE:3
DTSTAMP:20260425T164558Z
URL:https://business.stgeorgechamber.com/events/details/young-professionals-holiday-social-12-04-2025-18487
END:VEVENT

END:VCALENDAR
