BEGIN:VCALENDAR
VERSION:2.0
PRODID:-//ChamberMaster//Event Calendar 2.0//EN
METHOD:PUBLISH
X-PUBLISHED-TTL:P3D
REFRESH-INTERVAL:P3D
CALSCALE:GREGORIAN
BEGIN:VEVENT
DTSTART:20260417T000000Z
DTEND:20260417T020000Z
X-MICROSOFT-CDO-ALLDAYEVENT:FALSE
SUMMARY:Young Professionals Golf Social
DESCRIPTION:Join us for an evening of connection\, conversation\, and career growth at our Young Professionals & Alumni Networking Event. This event brings together young professionals\, Utah Tech alumni\, and current students for meaningful conversations and relationship building.\n\nAlumni will have the opportunity to share their career journeys\, offer insights\, and connect with upcoming graduates preparing to enter the workforce. Students can gain real-world advice\, expand their professional network\, and build connections that can open doors after graduation.\n\nWhether you're an established professional\, recent graduate\, or current student\, this event is designed to strengthen our local professional community and create valuable connections across generations of Utah Tech talent.
X-ALT-DESC;FMTTYPE=text/html:<p data-end="392" data-start="126">Join us for an evening of connection\, conversation\, and career growth at our Young Professionals &amp\; Alumni Networking Event. This event brings together young professionals\, Utah Tech alumni\, and current students for meaningful conversations and relationship building.</p>\n\n<p data-end="676" data-start="394">Alumni will have the opportunity to share their career journeys\, offer insights\, and connect with upcoming graduates preparing to enter the workforce. Students can gain real-world advice\, expand their professional network\, and build connections that can open doors after graduation.</p>\n\n<p data-end="900" data-start="678">Whether you&#39\;re an established professional\, recent graduate\, or current student\, this event is designed to strengthen our local professional community and create valuable connections across generations of Utah Tech talent.</p>\n
LOCATION:1108 W Black Mountain Dr\, St George\, UT 84790
UID:e.1117.18649
SEQUENCE:3
DTSTAMP:20260420T210740Z
URL:https://business.stgeorgechamber.com/events/details/young-professionals-golf-social-18649
END:VEVENT

END:VCALENDAR
