BEGIN:VCALENDAR
VERSION:2.0
PRODID:-//ChamberMaster//Event Calendar 2.0//EN
METHOD:PUBLISH
X-PUBLISHED-TTL:P3D
REFRESH-INTERVAL:P3D
CALSCALE:GREGORIAN
BEGIN:VEVENT
DTSTART:20241110T020000Z
DTEND:20241110T040000Z
X-MICROSOFT-CDO-ALLDAYEVENT:FALSE
SUMMARY:Young Professionals Fall Social - UT Mens Basketball vs. NMSU
DESCRIPTION:Join us for our Fall Young Professionals Social as Utah Tech Men's Basketball takes on New Mexico State!\n\n\n\nAll Young Professionals members are welcome to this complimentary event.\n\n\n\nPlease RSVP by November 4th so we can purchase group tickets.
X-ALT-DESC;FMTTYPE=text/html:<div class="p1" style="margin: 0px\; font-variant-numeric: normal\; font-variant-east-asian: normal\; font-variant-alternates: normal\; font-kerning: auto\; font-optical-sizing: auto\; font-feature-settings: normal\; font-variation-settings: normal\; font-variant-position: normal\; font-stretch: normal\; font-size: 12px\; line-height: normal\; font-family: Helvetica\; color: rgb(0\, 0\, 0)\;"><span style="font-size:20px\;">Join us for our Fall Young Professionals Social as Utah Tech Men&#39\;s Basketball takes on New Mexico State!<br />\n<br />\nAll Young Professionals members are welcome to this complimentary event.<br />\n<br />\nPlease RSVP by November 4th so we can purchase group tickets.</span></div>\n\n<p class="p1" style="margin: 0px\; font-variant-numeric: normal\; font-variant-east-asian: normal\; font-variant-alternates: normal\; font-kerning: auto\; font-optical-sizing: auto\; font-feature-settings: normal\; font-variation-settings: normal\; font-variant-position: normal\; font-stretch: normal\; font-size: 12px\; line-height: normal\; font-family: Helvetica\; color: rgb(0\, 0\, 0)\;">&nbsp\;</p>\n
LOCATION:Burns Arena 700 E 400 S St. George\, UT 84770
UID:e.1117.17845
SEQUENCE:3
DTSTAMP:20260420T025355Z
URL:https://business.stgeorgechamber.com/events/details/young-professionals-fall-social-ut-mens-basketball-vs-nmsu-17845
END:VEVENT

END:VCALENDAR
