BEGIN:VCALENDAR
VERSION:2.0
PRODID:-//ChamberMaster//Event Calendar 2.0//EN
METHOD:PUBLISH
X-PUBLISHED-TTL:P3D
REFRESH-INTERVAL:P3D
CALSCALE:GREGORIAN
BEGIN:VEVENT
DTSTART:20160720T000000Z
DTEND:20160720T013000Z
X-MICROSOFT-CDO-ALLDAYEVENT:FALSE
SUMMARY:Young Professional's Group "Kick Off Party"
DESCRIPTION:Do you consider yourself a young entrepreneur?  Join us for a "Kick Off" Networking Event!\n\n \n\nThe St. George Chamber of Commerce's Young Professionals Group is a meaningful networking group of dedicated\, talented young professionals.  The group offers young professionals the opportunity to network\, exchange ideas\, share common interests and help shape and influence \n\nsouthern Utah's business climate.\n\n \n\nMeet other young entrepreneurs while solving Houdini's Challenge or figuring out Da Vinci's Secret at The Mystery Escape Room!
X-ALT-DESC;FMTTYPE=text/html:<div><span style="color:#000000\;"><span style="font-size:14px\;"><span style="font-family:arial\;">Do you consider yourself a young entrepreneur?&nbsp\; Join us for&nbsp\;a &quot\;Kick Off&quot\; Networking Event!</span></span></span></div>\n\n<div>&nbsp\;</div>\n\n<div><span style="color:#000000\;"><span style="font-size:14px\;"><span style="font-family:arial\;"><span id="x50835baa301549e186ee33fdb6d2f39d">The St. George Chamber of Commerce&rsquo\;s Young Professionals Group is a meaningful networking group of dedicated\, talented young professionals.&nbsp\; The group offers young professionals the opportunity to network\, exchange ideas\, share common interests and help shape and influence </span></span></span></span></div>\n\n<div><span style="color:#000000\;"><span style="font-size:14px\;"><span style="font-family:arial\;">southern Utah&rsquo\;s business climate.</span></span></span><o:p></o:p></div>\n\n<div>&nbsp\;</div>\n\n<div><span style="color:#000000\;"><span style="font-size:14px\;"><span style="font-family:arial\;">Meet other young entrepreneurs while solving Houdini&#39\;s Challenge or figuring out Da Vinci&#39\;s Secret at The Mystery Escape Room!</span></span></span></div>\n
LOCATION:46 W. St. George Blvd. St. George
UID:e.1117.9040
SEQUENCE:3
DTSTAMP:20260419T165129Z
URL:https://business.stgeorgechamber.com/events/details/young-professional-s-group-kick-off-party-07-19-2016-9040
END:VEVENT

END:VCALENDAR
