BEGIN:VCALENDAR
VERSION:2.0
PRODID:-//ChamberMaster//Event Calendar 2.0//EN
METHOD:PUBLISH
X-PUBLISHED-TTL:P3D
REFRESH-INTERVAL:P3D
CALSCALE:GREGORIAN
BEGIN:VEVENT
DTSTART:20160111T180000Z
DTEND:20160111T200000Z
X-MICROSOFT-CDO-ALLDAYEVENT:FALSE
SUMMARY:Women And Courage
DESCRIPTION:Dr. Robyn Boudreau will share her long and difficult journey into womanhood\, and also provide some general information about being transgender. She currently teaches organic chemistry at DSU and does some occasional consulting work for pharmaceutical companies.
X-ALT-DESC;FMTTYPE=text/html:<span style="color: rgb(0\, 0\, 0)\; font-family: 'gill sans'\, sans-serif\; font-size: 17px\; line-height: 30.6px\; background-color: rgb(253\, 252\, 252)\;">Dr. Robyn Boudreau will share her long and difficult journey into womanhood\, and also provide some general information about being transgender. She currently teaches organic chemistry at DSU and does some occasional consulting work for pharmaceutical companies.</span>
LOCATION:Courtyard Marriott
UID:e.1117.7252
SEQUENCE:3
DTSTAMP:20260420T031137Z
URL:https://business.stgeorgechamber.com/events/details/women-and-courage-01-11-2016-7252
END:VEVENT

END:VCALENDAR
