BEGIN:VCALENDAR
VERSION:2.0
PRODID:-//ChamberMaster//Event Calendar 2.0//EN
METHOD:PUBLISH
X-PUBLISHED-TTL:P3D
REFRESH-INTERVAL:P3D
CALSCALE:GREGORIAN
BEGIN:VEVENT
DTSTART:20140110T190000Z
DTEND:20140110T200000Z
X-MICROSOFT-CDO-ALLDAYEVENT:FALSE
SUMMARY:"Winter Bird Festival" BLM Brown Bag Lecture Series
DESCRIPTION:Join birding enthusiast Marshall Topham to gear up for the 11thannual Audubon Society "Winter Bird Festival" which runs Jan 23-25\, 2014. Come learn all the interesting factors which make this area a unique\, biologically diverse\, landscape to study our feathered friends.  Topham\, a Southern Utah native\, majored in zoology with minors in botany and chemistry at Southern Utah University and was later recruited by the University of Hawaii to study entomology in Honolulu. Known to many in Washington County as a positive force for and representative of education through his lengthy career from high school and college teacher to 19 years of administration service for the Washington County School District\, Topham's enthusiasm for education and birding is unsurpassed.
X-ALT-DESC;FMTTYPE=text/html:Join birding enthusiast Marshall Topham to gear up for the 11<sup>th</sup>annual Audubon Society &quot\;Winter Bird Festival&quot\; which runs&nbsp\;<span data-term="goog_653730631" tabindex="0">Jan 23-25\, 2014. Come learn all the interesting factors which make this area a unique\, biologically diverse\, landscape to study our feathered friends.&nbsp\; Topham\, a Southern Utah native\, majored in zoology with minors in botany and chemistry at Southern Utah University and was later recruited by the University of Hawaii to study entomology in Honolulu. Known to many in Washington County as a positive force for and representative of education through his lengthy career from high school and college teacher to 19 years of administration service for the Washington County School District\, Topham&rsquo\;s enthusiasm for education and birding is unsurpassed.</span>
LOCATION:Interagency Information Center 345 E. Riverside Drive in St. George\, Utah
UID:e.1117.4999
SEQUENCE:3
DTSTAMP:20260421T154608Z
URL:https://business.stgeorgechamber.com/events/details/winter-bird-festival-blm-brown-bag-lecture-series-01-10-2014-4999
END:VEVENT

END:VCALENDAR
