BEGIN:VCALENDAR
VERSION:2.0
PRODID:-//ChamberMaster//Event Calendar 2.0//EN
METHOD:PUBLISH
X-PUBLISHED-TTL:P3D
REFRESH-INTERVAL:P3D
CALSCALE:GREGORIAN
BEGIN:VEVENT
DTSTART:20140329T013000Z
DTEND:20140329T040000Z
X-MICROSOFT-CDO-ALLDAYEVENT:FALSE
SUMMARY:Willie Nelson in Concert
DESCRIPTION:Willie Nelson has been an American Music Icon for decades. Nelson has over 2\,500 songs and 300 albums under his belt. He is a member of the Grand Ole Opry\, and in 1993 he was inducted into the Country Music Hall of Fame. Willie Nelson has received 11 Grammy Awards\, 7 American Music Awards\, and 9 CMA Awards including a Lifetime Achievement Award. In addition to his outstanding music career Nelson has had 38 television and movie appearances including The Electric Horseman filmed right here in Southern Utah.
X-ALT-DESC;FMTTYPE=text/html:Willie Nelson has been an American Music Icon for decades. Nelson has over 2\,500 songs and 300 albums under his belt. He is a member of the Grand Ole Opry\, and in 1993 he was inducted into the Country Music Hall of Fame. Willie Nelson has received 11 Grammy Awards\, 7 American Music Awards\, and 9 CMA Awards including a Lifetime Achievement Award. In addition to his outstanding music career Nelson has had 38 television and movie appearances including The Electric Horseman filmed right here in Southern Utah.
LOCATION:Tuacahn Amphitheatre 1100 Tuacahn Drive Ivins\, Utah
UID:e.1117.5093
SEQUENCE:3
DTSTAMP:20260421T125725Z
URL:https://business.stgeorgechamber.com/events/details/willie-nelson-in-concert-03-28-2014-5093
END:VEVENT

END:VCALENDAR
