BEGIN:VCALENDAR
VERSION:2.0
PRODID:-//ChamberMaster//Event Calendar 2.0//EN
METHOD:PUBLISH
X-PUBLISHED-TTL:P3D
REFRESH-INTERVAL:P3D
CALSCALE:GREGORIAN
BEGIN:VEVENT
DTSTART:20160520T010000Z
DTEND:20160520T030000Z
X-MICROSOFT-CDO-ALLDAYEVENT:FALSE
SUMMARY:Wildways: Corridors of Life Film
DESCRIPTION:Join us for an innovative film\, light reception\, and expert panel before you venture off for summer adventures. Wildways is a groundbreaking film on the challenges of preserving biodiversity on an ever more crowded planet. The film demonstrates how some of the world's most beloved species can be preserved by linking the world's wildlife refuges with safe highway crossings and protected land corridors.
X-ALT-DESC;FMTTYPE=text/html:Join us for an innovative film\, light reception\, and expert panel before you venture off for summer adventures. Wildways is a groundbreaking film on the challenges of preserving biodiversity on an ever more crowded planet. The film demonstrates how some of the world&#39\;s most beloved species can be preserved by linking the world&#39\;s wildlife refuges with safe highway crossings and protected land corridors.
LOCATION:The Electric Theater
UID:e.1117.8610
SEQUENCE:3
DTSTAMP:20260419T183917Z
URL:https://business.stgeorgechamber.com/events/details/wildways-corridors-of-life-film-05-19-2016-8610
END:VEVENT

END:VCALENDAR
