BEGIN:VCALENDAR
VERSION:2.0
PRODID:-//ChamberMaster//Event Calendar 2.0//EN
METHOD:PUBLISH
X-PUBLISHED-TTL:P3D
REFRESH-INTERVAL:P3D
CALSCALE:GREGORIAN
BEGIN:VEVENT
DTSTART:20150911T230000Z
DTEND:20150913T050000Z
X-MICROSOFT-CDO-ALLDAYEVENT:FALSE
SUMMARY:Wild West Days in Leeds
DESCRIPTION:Wild West Days will once again be held in Leeds\, Utah on September 11 (5pm-11pm) & 12 (10am-11pm)\, 2015.  Join in the fun with a Pony Express Ride\; Tombstone Tours of the old Silver Reef cemeteries\; Live Fiddling\, Bluegrass and Country Music\; Evening Play on Stage\; Horseshoes\; Pioneer Corner\; Dancing\; Children's Games\; Candy Cannon\; Bubble Canyon\; Vendors and More. \n\n\n\nJust up the hill\, the Museum at Silver Reef will have several events.   On September 11\, stop by for a tour of the old mining museum and learn what life was like for 19th-century miners.   On September 12\, there will be a lecture on the History of the Buffalo at 11am\, followed by a shootout at high noon and several family activity tours. So come on by\, bring the family\, and celebrate our heritage at Wild West Days!
X-ALT-DESC;FMTTYPE=text/html:<p><span style="font-size:14px\;"><span style="font-family:arial\;"><span style="color: rgb(102\, 102\, 102)\;">Wild West Days will once again be held in Leeds\, Utah&nbsp\;on September 11 (5pm-11pm)&nbsp\;&amp\; 12 (10am-11pm)\, 2015.&nbsp\; Join in the fun with a Pony Express Ride\; Tombstone Tours of the old Silver Reef cemeteries\;&nbsp\;Live Fiddling\, Bluegrass and Country Music\; Evening Play on Stage\; Horseshoes\; Pioneer Corner\; Dancing\; Children&#39\;s Games\; Candy Cannon\; Bubble Canyon\; Vendors and More.&nbsp\;</span><br />\n<br />\nJust up the hill\, the Museum at Silver Reef will have several events.&nbsp\;&nbsp\; On September 11\, stop by for a tour of the old mining museum and learn what life was like for 19th-century miners.&nbsp\;&nbsp\; On September 12\, there will be a lecture on the History of the Buffalo at 11am\, followed by a shootout at high noon and several family activity tours. So come on by\, bring the family\, and celebrate our heritage at Wild West Days!</span></span></p>\n
LOCATION:Leeds\, Utah
UID:e.1117.7074
SEQUENCE:3
DTSTAMP:20260420T101803Z
URL:https://business.stgeorgechamber.com/events/details/wild-west-days-in-leeds-09-11-2015-7074
END:VEVENT

END:VCALENDAR
