BEGIN:VCALENDAR
VERSION:2.0
PRODID:-//ChamberMaster//Event Calendar 2.0//EN
METHOD:PUBLISH
X-PUBLISHED-TTL:P3D
REFRESH-INTERVAL:P3D
CALSCALE:GREGORIAN
BEGIN:VEVENT
DTSTART:20160127T230000Z
DTEND:20160128T000000Z
X-MICROSOFT-CDO-ALLDAYEVENT:FALSE
SUMMARY:Why Everyone Needs an Estate Plan Seminar
DESCRIPTION:Review the fundamentals of estate planning and how to create a plan that works for your needs. \n\nAn effective estate plan can help you achieve confidence about your future and provide for your\n\nneeds as you grow older.
X-ALT-DESC;FMTTYPE=text/html:Review the fundamentals of estate planning and how to create a plan that works for your needs.&nbsp\;<br />\nAn effective estate plan can help you achieve confidence about your future and provide for your<br />\nneeds as you grow older.&nbsp\;<br />\n<br />\n&nbsp\;
LOCATION:Charles Schwab branch\, 15 S River Road #130\, St George UT
UID:e.1117.7378
SEQUENCE:3
DTSTAMP:20260420T012742Z
URL:https://business.stgeorgechamber.com/events/details/why-everyone-needs-an-estate-plan-seminar-01-27-2016-7378
END:VEVENT

END:VCALENDAR
