BEGIN:VCALENDAR
VERSION:2.0
PRODID:-//ChamberMaster//Event Calendar 2.0//EN
METHOD:PUBLISH
X-PUBLISHED-TTL:P3D
REFRESH-INTERVAL:P3D
CALSCALE:GREGORIAN
BEGIN:VEVENT
DTSTART:20140628T210000Z
DTEND:20140628T230000Z
X-MICROSOFT-CDO-ALLDAYEVENT:FALSE
SUMMARY:"Whoopee" Social Game
DESCRIPTION:Whoopee! We will be playing ?Whoopee? at Desert Dove Tea Room and Cafe. Whoopee is a social card game that features individuals rolling dice and flipping over cards. It will be an afternoon that you will not forget. It will be the perfect afternoon for couples or friends to talk\, laugh and have lots of fun. The cost to play is $5 per person which includes a beverage and scone. In addition please bring a gift for exchange in a brown paper bag. The value of the gift should be under $5. Seating is limited so please call us to reserve a spot at 435-628-3683.
X-ALT-DESC;FMTTYPE=text/html:Whoopee! We will be playing ?Whoopee? at Desert Dove Tea Room and Cafe. Whoopee is a social card game that features individuals rolling dice and flipping over cards. It will be an afternoon that you will not forget. It will be the perfect afternoon for couples or friends to talk\, laugh and have lots of fun. The cost to play is $5 per person which includes a beverage and scone. In addition please bring a gift for exchange in a brown paper bag. The value of the gift should be under $5. Seating is limited so please call us to reserve a spot at 435-628-3683.
LOCATION:157 E. Riverside Drive\, #3B\, St. George\, UT 84790 United States
UID:e.1117.5296
SEQUENCE:3
DTSTAMP:20260423T085036Z
URL:https://business.stgeorgechamber.com/events/details/whoopee-social-game-06-28-2014-5296
END:VEVENT

END:VCALENDAR
