BEGIN:VCALENDAR
VERSION:2.0
PRODID:-//ChamberMaster//Event Calendar 2.0//EN
METHOD:PUBLISH
X-PUBLISHED-TTL:P3D
REFRESH-INTERVAL:P3D
CALSCALE:GREGORIAN
BEGIN:VEVENT
DTSTART:20130517T160000Z
DTEND:20130519T020000Z
X-MICROSOFT-CDO-ALLDAYEVENT:FALSE
SUMMARY:What Women Want Expo
DESCRIPTION:Consumer show targeting women of all ages. It is family friendly but not directed to families. It typically has over 250 booths with vendors offering products and services geared to woman wants and needs. Things such as personal appearance\, home decor\, health care\, services typically available at spas\, financial/Insurance Services\, Personal/Professional coaching\, and food.
X-ALT-DESC;FMTTYPE=text/html:<h3>\n	<span style="color: rgb(0\, 0\, 0)\; font-family: Arial\, Helvetica\, sans-serif\; text-align: -webkit-center\;">Consumer show targeting women of all ages. It is family friendly but not directed to families. It typically has over 250 booths with vendors offering products and services geared to woman wants and needs. Things such as personal appearance\, home decor\, health care\, services typically available at spas\, financial/Insurance Services\, Personal/Professional coaching\, and food.</span></h3>\n
LOCATION:Dixie Convention Center 1835 Convention Center Drive St. George\, UT
UID:e.1117.2960
SEQUENCE:3
DTSTAMP:20260422T041721Z
URL:https://business.stgeorgechamber.com/events/details/what-women-want-expo-05-17-2013-2960
END:VEVENT

END:VCALENDAR
