BEGIN:VCALENDAR
VERSION:2.0
PRODID:-//ChamberMaster//Event Calendar 2.0//EN
METHOD:PUBLISH
X-PUBLISHED-TTL:P3D
REFRESH-INTERVAL:P3D
CALSCALE:GREGORIAN
BEGIN:VEVENT
DTSTART:20160506T160000Z
DTEND:20160508T020000Z
X-MICROSOFT-CDO-ALLDAYEVENT:FALSE
SUMMARY:What Women Want Expo
DESCRIPTION:The What Women Want expo is a chance for women from all around to come together and experience all the new products out there for women! Each new Expo gets bigger and better. With new and exciting products\, you won't want to miss the What Women Want Spring Expo!!
X-ALT-DESC;FMTTYPE=text/html:<h3><span style="color: rgb(68\, 68\, 68)\; font-family: Lato\, HelveticaNeue\, 'Helvetica Neue'\, Helvetica\, Arial\, sans-serif\; line-height: 21.4500007629395px\;">The What Women Want expo is a chance for women from all around to come together and experience all the new products out there for women! Each new Expo gets bigger and better. With new and exciting products\, you won&#39\;t want to miss the What Women Want Spring Expo!!&nbsp\;</span></h3>\n
LOCATION:Dixie Convention Center 1835 Convention Center Drive St. George\, UT
UID:e.1117.8608
SEQUENCE:3
DTSTAMP:20260419T201538Z
URL:https://business.stgeorgechamber.com/events/details/what-women-want-expo-05-06-2016-8608
END:VEVENT

END:VCALENDAR
