BEGIN:VCALENDAR
VERSION:2.0
PRODID:-//ChamberMaster//Event Calendar 2.0//EN
METHOD:PUBLISH
X-PUBLISHED-TTL:P3D
REFRESH-INTERVAL:P3D
CALSCALE:GREGORIAN
BEGIN:VEVENT
DTSTART;VALUE=DATE:20140818
DTEND;VALUE=DATE:20140825
TRANSP:TRANSPARENT
X-MICROSOFT-CDO-ALLDAYEVENT:TRUE
SUMMARY:Western Legends Roundup
DESCRIPTION:The streets of downtown Kanab are transformed back to a time where visitors and locals alike enjoy events and activities and gain a love and appreciation of the old west.\n\nThere will be yummy food\, arts & crafts vendors\, wild west stunt shows\, continuous live entertainment including western music & cowboy poetry\, Children's Activities including Dr. Buck's "way out west" buckaroo game corral for all the little cowpokes\, old west workshops & working displays\, mountain man camp\, blacksmith\, wheelwright\, horse training demonstrations\, Antique car show\, horse-drawn wagon shuttle service & more!\n\nEveryone is encouraged to wear their western wear attire.
X-ALT-DESC;FMTTYPE=text/html:<p>The streets of downtown Kanab are transformed back to a time where visitors and locals alike enjoy events and activities and gain a love and appreciation of the old west.</p>\n\n<p>There will be yummy food\, arts &amp\; crafts vendors\, wild west stunt shows\, continuous live entertainment including western music &amp\; cowboy poetry\, Children&rsquo\;s Activities including Dr. Buck&rsquo\;s &ldquo\;way out west&rdquo\; buckaroo game corral for all the little cowpokes\, old west workshops &amp\; working displays\, mountain man camp\, blacksmith\, wheelwright\, horse training demonstrations\, Antique car show\, horse-drawn wagon shuttle service &amp\; more!</p>\n\n<p>Everyone is encouraged to wear their western wear attire.</p>\n
LOCATION:Kanab\, Utah
UID:e.1117.6039
SEQUENCE:3
DTSTAMP:20260421T055148Z
URL:https://business.stgeorgechamber.com/events/details/western-legends-roundup-08-18-2014-6039
END:VEVENT

END:VCALENDAR
