BEGIN:VCALENDAR
VERSION:2.0
PRODID:-//ChamberMaster//Event Calendar 2.0//EN
METHOD:PUBLISH
X-PUBLISHED-TTL:P3D
REFRESH-INTERVAL:P3D
CALSCALE:GREGORIAN
BEGIN:VEVENT
DTSTART:20160602T173000Z
DTEND:20160602T190000Z
X-MICROSOFT-CDO-ALLDAYEVENT:FALSE
SUMMARY:Washington County Republican Women Luncheon
DESCRIPTION:Meet the Candidate Forum House District 75 Candidates: Steve Kemp and Walt Brooks County Commission Candidates: Dean Cox and Gil Almquist
X-ALT-DESC;FMTTYPE=text/html:Meet the Candidate Forum House District 75 Candidates: Steve Kemp and Walt Brooks County Commission Candidates: Dean Cox and Gil Almquist
LOCATION:The Abbey Inn 1129 S Bluff St\, St George\, UT 84770
UID:e.1117.8706
SEQUENCE:3
DTSTAMP:20260419T165422Z
URL:https://business.stgeorgechamber.com/events/details/washington-county-republican-women-luncheon-06-02-2016-8706
END:VEVENT

END:VCALENDAR
