BEGIN:VCALENDAR
VERSION:2.0
PRODID:-//ChamberMaster//Event Calendar 2.0//EN
METHOD:PUBLISH
X-PUBLISHED-TTL:P3D
REFRESH-INTERVAL:P3D
CALSCALE:GREGORIAN
BEGIN:VEVENT
DTSTART:20150401T170000Z
DTEND:20150501T000000Z
X-MICROSOFT-CDO-ALLDAYEVENT:FALSE
SUMMARY:Washington County High School Art Show
DESCRIPTION:The DiFiore Center is proud to show the art of Washington County High School Students. The exhibit runs from April 1\, 2015 through April 30\, 2015. Please come support the students in the area and view the fantastic art that they have produced.
X-ALT-DESC;FMTTYPE=text/html:The DiFiore Center is proud to show the art of Washington County High School Students. The exhibit runs from April 1\, 2015 through April 30\, 2015. Please come support the students in the area and view the fantastic art that they have produced.
LOCATION:The DiFiore Center
UID:e.1117.6344
SEQUENCE:3
DTSTAMP:20260420T173054Z
URL:https://business.stgeorgechamber.com/events/details/washington-county-high-school-art-show-04-01-2015-6344
END:VEVENT

END:VCALENDAR
