BEGIN:VCALENDAR
VERSION:2.0
PRODID:-//ChamberMaster//Event Calendar 2.0//EN
METHOD:PUBLISH
X-PUBLISHED-TTL:P3D
REFRESH-INTERVAL:P3D
CALSCALE:GREGORIAN
BEGIN:VEVENT
DTSTART:20140404T170000Z
DTEND:20140427T000000Z
X-MICROSOFT-CDO-ALLDAYEVENT:FALSE
SUMMARY:Washington County High School Art Exhibit
DESCRIPTION:The DiFiore Center proudly presents the art of the Washington County School district high school students. April 4 \, 2014 through April 26\, 2014
X-ALT-DESC;FMTTYPE=text/html:The DiFiore Center proudly presents the art of the Washington County School district high school students. April 4 \, 2014 through April 26\, 2014
LOCATION:307 North Main Street
UID:e.1117.5184
SEQUENCE:3
DTSTAMP:20260421T112246Z
URL:https://business.stgeorgechamber.com/events/details/washington-county-high-school-art-exhibit-04-04-2014-5184
END:VEVENT

END:VCALENDAR
