BEGIN:VCALENDAR
VERSION:2.0
PRODID:-//ChamberMaster//Event Calendar 2.0//EN
METHOD:PUBLISH
X-PUBLISHED-TTL:P3D
REFRESH-INTERVAL:P3D
CALSCALE:GREGORIAN
BEGIN:VEVENT
DTSTART:20130917T140000Z
DTEND:20130918T010000Z
X-MICROSOFT-CDO-ALLDAYEVENT:FALSE
SUMMARY:Washington County Flu Shoot-Out
DESCRIPTION:The Southwest Utah Public Health Department (SWUPHD) will be holding its annual Flu Shoot-Out for the Washington County area.\n\n	"This is a convenient way  to get your flu shot and help us practice our mass-vaccination skills as well\," says Paulette Valentine\, SWUPHD Emergency Preparedness Director. "A lot of people\, especially seniors\, appreciate the drive-thru option where you never have to leave your car\, and people of all ages are invited to come inside the mall's Center Court for walk-in vaccinations."\n\n	It is currently recommended that everyone over six months of age get immunized although young children\, people over 65 years of age\, and anyone with chronic health problems are especially encouraged to do so.\n\n	\n\n	Co-sponsors of the Shoot-out include Dixie Regional Medical Center\, Red Cliffs Mall\, Dixie State University Nursing Program\, the City of St. George\, VIPS (Volunteers in Police Service)\, and the MRC (Medical Reserve Corps).\n\n	                                                                                          # # #\n\n	The mission of the Southwest Utah Public Health Department is to protect the community's health through the promotion of wellness and the prevention of disease. Visit our website at  www.swuhealth.org
X-ALT-DESC;FMTTYPE=text/html:<p>\n	The Southwest Utah Public Health Department (SWUPHD) will be holding its annual Flu Shoot-Out for the Washington County area.</p>\n<p>\n	&quot\;This is a convenient way&nbsp\; to get your flu shot and help us practice our mass-vaccination skills as well\,&quot\; says Paulette Valentine\, SWUPHD Emergency Preparedness Director. &quot\;A lot of people\, especially seniors\, appreciate the drive-thru option where you never have to leave your car\, and people of all ages are invited to come inside the mall&#39\;s Center Court for walk-in vaccinations.&quot\;</p>\n<p>\n	It is currently recommended that everyone over six months of age get immunized although young children\, people over 65 years of age\, and anyone with chronic health problems are especially encouraged to do so.<br />\n	<br />\n	<span style="font-family: Arial\, sans-serif\;">Co-sponsors of the Shoot-out include Dixie Regional Medical Center\, Red Cliffs Mall\, Dixie State University Nursing Program\, the City of St. George\, VIPS (Volunteers in Police Service)\, and the </span>MRC<span style="font-family: Arial\, sans-serif\;"> (Medical Reserve Corps).</span></p>\n<p>\n	&nbsp\; &nbsp\; &nbsp\; &nbsp\; &nbsp\; &nbsp\; &nbsp\; &nbsp\; &nbsp\; &nbsp\; &nbsp\; &nbsp\; &nbsp\; &nbsp\; &nbsp\; &nbsp\; &nbsp\; &nbsp\; &nbsp\; &nbsp\; &nbsp\; &nbsp\; &nbsp\; &nbsp\; &nbsp\; &nbsp\; &nbsp\; &nbsp\; &nbsp\; &nbsp\; &nbsp\; &nbsp\; &nbsp\; &nbsp\; &nbsp\; &nbsp\; &nbsp\; &nbsp\; &nbsp\; &nbsp\; &nbsp\; &nbsp\; &nbsp\; &nbsp\; &nbsp\; # # #</p>\n<p>\n	<i>The mission of the Southwest Utah Public Health Department is to protect the community&rsquo\;s health through the promotion of wellness and the prevention of disease. Visit our website at &nbsp\;</i><a href="http://www.swuhealth.org" target="_blank"><span style="letter-spacing:-.75pt">www.swuhealth.org</span></a></p>\n
LOCATION:
UID:e.1117.4269
SEQUENCE:3
DTSTAMP:20260421T232837Z
URL:https://business.stgeorgechamber.com/events/details/washington-county-flu-shoot-out-09-17-2013-4269
END:VEVENT

END:VCALENDAR
