BEGIN:VCALENDAR
VERSION:2.0
PRODID:-//ChamberMaster//Event Calendar 2.0//EN
METHOD:PUBLISH
X-PUBLISHED-TTL:P3D
REFRESH-INTERVAL:P3D
CALSCALE:GREGORIAN
BEGIN:VEVENT
DTSTART;VALUE=DATE:20150812
DTEND;VALUE=DATE:20150816
TRANSP:TRANSPARENT
X-MICROSOFT-CDO-ALLDAYEVENT:TRUE
SUMMARY:Washington County Fair
DESCRIPTION:FAIR HOURS\n\nWednesday: 6:00PM   11:30PM\n\nThursday to Saturday: 11:00 AM   11:30 PM\n\nThursday Only Commercial Booth Hours Open 4:00 PM   10:00 PM\n\nCARNIVAL\n\n\n\nWednesday: 6:00 PM   10:00 PM\n\nThursday to Saturday: 4:00 PM   11:00 PM\n\n\n	Single Tickets $1.50\n	10 Tickets for $12.00\n	20 Tickets for $20.00\n	Wristband for $25.00 (Unlimited Rides for one person per day)\n	Wednesday\, August 12th is FAMILY NIGHT\n\n	All rides ONE ticket\n	Thursday\, August 13th is BUDDY NIGHT\n\n	Buy one wristband and your "Buddy" receives a free one!\n\n	Sale only from 5:00 PM   7:00 PM\n\n	Both parties must be present at time of purchase\n	Friday\, August 14th The Planet 94.1 Whirl Til You Hurl\n\n	At 6:00 PM\, first 94 people in line will receive unlimited wristbands for $10
X-ALT-DESC;FMTTYPE=text/html:<p><strong>FAIR HOURS</strong><br />\nWednesday: 6:00PM &ndash\; 11:30PM<br />\nThursday to Saturday: 11:00 AM &ndash\; 11:30 PM<br />\nThursday Only Commercial Booth Hours Open 4:00 PM &ndash\; 10:00 PM</p>\n\n<p style="font-family: 'Helvetica Neue'\, Helvetica\, Tahoma\, sans-serif\; font-size: small\; line-height: 18px\;"><strong>CARNIVAL</strong><br />\n<br />\nWednesday: 6:00 PM &ndash\; 10:00 PM<br />\nThursday to Saturday: 4:00 PM &ndash\; 11:00 PM</p>\n\n<ul style="font-family: 'Helvetica Neue'\, Helvetica\, Tahoma\, sans-serif\; font-size: small\; line-height: 18px\;">\n	<li>Single Tickets $1.50</li>\n	<li>10 Tickets for $12.00</li>\n	<li>20 Tickets for $20.00</li>\n	<li>Wristband for $25.00 (Unlimited Rides for one person per day)</li>\n	<li>Wednesday\, August 12<sup>th</sup>&nbsp\;is FAMILY NIGHT<br />\n	All rides ONE ticket</li>\n	<li>Thursday\, August 13<sup>th</sup>&nbsp\;is BUDDY NIGHT<br />\n	Buy one wristband and your &quot\;Buddy&quot\; receives a free one!<br />\n	Sale only from 5:00 PM &ndash\; 7:00 PM<br />\n	Both parties must be present at time of purchase</li>\n	<li>Friday\, August 14<sup>th</sup>&nbsp\;The Planet 94.1 Whirl Til You Hurl<br />\n	At 6:00 PM\, first 94 people in line will receive unlimited wristbands for $10</li>\n</ul>\n
LOCATION:LOCATION Washington County Regional Fairpark: Take I-15 to the Hurricane Exit (Exit16)\, (SR-9). Go approximately 3 miles. It is across from Quail Creek Reservoir. Look for the flags!
UID:e.1117.6994
SEQUENCE:3
DTSTAMP:20260420T101657Z
URL:https://business.stgeorgechamber.com/events/details/washington-county-fair-08-12-2015-6994
END:VEVENT

END:VCALENDAR
