BEGIN:VCALENDAR
VERSION:2.0
PRODID:-//ChamberMaster//Event Calendar 2.0//EN
METHOD:PUBLISH
X-PUBLISHED-TTL:P3D
REFRESH-INTERVAL:P3D
CALSCALE:GREGORIAN
BEGIN:VEVENT
DTSTART;VALUE=DATE:20140807
DTEND;VALUE=DATE:20140810
TRANSP:TRANSPARENT
X-MICROSOFT-CDO-ALLDAYEVENT:TRUE
SUMMARY:Washington County Fair
DESCRIPTION:FAIR HOURS\n\nWednesday: 6:00PM   11:30PM\n\nThursday to Saturday: 11:00 AM   11:30 PM\n\nThursday Only Commercial Booth Hours Open 4:00 PM   10:00 PM\n\nCARNIVAL\n\nWednesday 6:00 PM   10:00 PM\n\nThursday to Saturday: 4:00 PM   11:00 PM\n\n\n	Single Tickets $1.50\n	10 Tickets for $10.00\n	Wristbands are $25.00 (good for one person\, one day)\n	Wednesday\, August 10th is Family Night\, all rides are $1.00 and wristband is $20.00
X-ALT-DESC;FMTTYPE=text/html:<p><strong>FAIR HOURS</strong><br />\nWednesday: 6:00PM &ndash\; 11:30PM<br />\nThursday to Saturday: 11:00 AM &ndash\; 11:30 PM<br />\nThursday Only Commercial Booth Hours Open 4:00 PM &ndash\; 10:00 PM</p>\n\n<p><strong>CARNIVAL</strong><br />\nWednesday 6:00 PM &ndash\; 10:00 PM<br />\nThursday to Saturday: 4:00 PM &ndash\; 11:00 PM</p>\n\n<ul>\n	<li>Single Tickets $1.50</li>\n	<li>10 Tickets for $10.00</li>\n	<li>Wristbands are $25.00 (good for one person\, one day)</li>\n	<li>Wednesday\, August 10th is Family Night\, all rides are $1.00 and wristband is $20.00</li>\n</ul>\n
LOCATION:LOCATION Washington County Regional Fairpark: Take I-15 to the Hurricane Exit (Exit16)\, (SR-9). Go approximately 3 miles. It is across from Quail Creek Reservoir. Look for the flags!
UID:e.1117.5896
SEQUENCE:3
DTSTAMP:20260421T054611Z
URL:https://business.stgeorgechamber.com/events/details/washington-county-fair-08-07-2014-5896
END:VEVENT

END:VCALENDAR
