BEGIN:VCALENDAR
VERSION:2.0
PRODID:-//ChamberMaster//Event Calendar 2.0//EN
METHOD:PUBLISH
X-PUBLISHED-TTL:P3D
REFRESH-INTERVAL:P3D
CALSCALE:GREGORIAN
BEGIN:VEVENT
DTSTART;VALUE=DATE:20140116
DTEND;VALUE=DATE:20140117
TRANSP:TRANSPARENT
X-MICROSOFT-CDO-ALLDAYEVENT:TRUE
SUMMARY:Washington County Economic Summit
DESCRIPTION:Now in its 19th year\, the Washington County Economic Summit has the reputation of being the premier business planning event of southern Utah. The Summit has come to be known as "What's Up Down South\," after its most popular session\, the rapid fire bullet-point presentations of future projects that will impact the economy of Washington County for the next 18 months.\n\n	Keynote presenters at breakfast and lunch\, as well as two sessions of breakout presentations\, round out the day's events.
X-ALT-DESC;FMTTYPE=text/html:<p style="color: rgb(102\, 102\, 102)\; font-family: 'Lucida Grande'\, Arial\, Helvetica\, Geneva\, Arial\, sans-serif\; font-size: 11px\; line-height: 15px\; text-align: justify\;">\n	<span style="font-size:14px\;"><span style="font-family:arial\;">Now in its 19th year\, the Washington County Economic Summit has the reputation of being the premier business planning event of southern Utah. The Summit has come to be known as &quot\;What&#39\;s Up Down South\,&quot\; after its most popular session\, the rapid fire bullet-point presentations of future projects that will impact the economy of Washington County for the next 18 months.</span></span></p>\n<p style="color: rgb(102\, 102\, 102)\; font-family: 'Lucida Grande'\, Arial\, Helvetica\, Geneva\, Arial\, sans-serif\; font-size: 11px\; line-height: 15px\; text-align: justify\;">\n	<span style="font-size:14px\;"><span style="font-family:arial\;">Keynote presenters at breakfast and lunch\, as well as two sessions of breakout presentations\, round out the day&#39\;s events.</span></span></p>\n
LOCATION:Dixie Center 1835 Convention Center Drive
UID:e.1117.4936
SEQUENCE:3
DTSTAMP:20260421T154125Z
URL:https://business.stgeorgechamber.com/events/details/washington-county-economic-summit-01-16-2014-4936
END:VEVENT

END:VCALENDAR
