BEGIN:VCALENDAR
VERSION:2.0
PRODID:-//ChamberMaster//Event Calendar 2.0//EN
METHOD:PUBLISH
X-PUBLISHED-TTL:P3D
REFRESH-INTERVAL:P3D
CALSCALE:GREGORIAN
BEGIN:VEVENT
DTSTART;VALUE=DATE:20150115
DTEND;VALUE=DATE:20150116
TRANSP:TRANSPARENT
X-MICROSOFT-CDO-ALLDAYEVENT:TRUE
SUMMARY:Washington County Economic Summit
DESCRIPTION:The 2015 Summit will feature presentations reflecting the current energetic economy and the event planning team has taken extra measures to provide information that will help businesses optimize their decision-making.\n\nThe breakfast session\, presented by Utah Lt. Governor Spencer Cox\, will feature the latest data pertaining to southern Utah trends and how they relate to state and national economy.\n\nPromoting this year's Summit theme of Inspiring Greatness will be Noelle Pikus Pace\, who won a 2014 Olympic Silver Medal in the Skeleton competition. Pace\, who staged a heroic comeback in her sport after suffering a broken leg in a freak accident  in 2005\, is a sought after motivational speaker nationwide as well as being an MBA\, business owner and a wife and mother of young children.\n\nNational renowned community strategist Robert Grow\, president and CEO of Envision Utah\, will present at a new afternoon ballroom session entitled Growth Opportunities and Challenges.\n\nThe What's Up Down South and breakout sessions will be packed with fresh information and exciting news. With this lineup\, we fully expect to have sell-out attendance this year.\n\nWe'll see you at the Summit!
X-ALT-DESC;FMTTYPE=text/html:<p><span style="font-size:14px\;"><span style="font-family:arial\;">The 2015&nbsp\;Summit&nbsp\;will feature presentations reflecting the current energetic&nbsp\;economy&nbsp\;and the event planning team has taken extra measures to provide information that will help businesses optimize their decision-making.</span></span></p>\n\n<p><span style="font-size:14px\;"><span style="font-family:arial\;">The breakfast session\, presented by Utah Lt. Governor Spencer Cox\, will feature the latest data pertaining to southern Utah trends and how they relate to state and national&nbsp\;economy.</span></span></p>\n\n<p><span style="font-size:14px\;"><span style="font-family:arial\;">Promoting this year&rsquo\;s&nbsp\;Summit&nbsp\;theme of Inspiring Greatness will be Noelle Pikus Pace\, who won a 2014 Olympic Silver Medal in the Skeleton competition. Pace\, who staged a heroic comeback in her sport after suffering a broken leg in a freak accident&nbsp\; in 2005\, is a sought after motivational speaker nationwide as well as being an MBA\, business owner and a wife and mother of young children.</span></span></p>\n\n<p><span style="font-size:14px\;"><span style="font-family:arial\;">National renowned community strategist Robert Grow\, president and CEO of Envision Utah\, will present at a new afternoon ballroom session entitled Growth Opportunities and Challenges.</span></span></p>\n\n<p><span style="font-size:14px\;"><span style="font-family:arial\;">The What&rsquo\;s Up Down South and breakout sessions will be packed with fresh information and exciting news. With this lineup\, we fully expect to have sell-out attendance this year.</span></span></p>\n\n<p><span style="font-size:14px\;"><span style="font-family:arial\;">We&rsquo\;ll see you at the&nbsp\;Summit!</span></span></p>\n
LOCATION:Dixie Center 1835 Convention Center Drive
UID:e.1117.6237
SEQUENCE:3
DTSTAMP:20260420T220741Z
URL:https://business.stgeorgechamber.com/events/details/washington-county-economic-summit-01-15-2015-6237
END:VEVENT

END:VCALENDAR
