BEGIN:VCALENDAR
VERSION:2.0
PRODID:-//ChamberMaster//Event Calendar 2.0//EN
METHOD:PUBLISH
X-PUBLISHED-TTL:P3D
REFRESH-INTERVAL:P3D
CALSCALE:GREGORIAN
BEGIN:VEVENT
DTSTART;VALUE=DATE:20160114
DTEND;VALUE=DATE:20160115
TRANSP:TRANSPARENT
X-MICROSOFT-CDO-ALLDAYEVENT:TRUE
SUMMARY:Washington County Economic Summit
DESCRIPTION:Now in its 20th year\, the What's Up Down South Economic Summit has become the premier business event in southern Utah. The 2016 event\, to be held Thursday\, January 14\, will feature a number of technology updates and improvements\, as well as exciting and informative key-note speakers and breakout sessions.
X-ALT-DESC;FMTTYPE=text/html:<p>Now in its 20th year\, the What&rsquo\;s Up Down South Economic Summit has become the premier business event in southern Utah. The 2016 event\, to be held Thursday\, January 14\, will feature a number of technology updates and improvements\, as well as exciting and informative key-note speakers and breakout sessions.</p>\n
LOCATION:Dixie Center 1835 Convention Center Drive
UID:e.1117.7388
SEQUENCE:3
DTSTAMP:20260420T012702Z
URL:https://business.stgeorgechamber.com/events/details/washington-county-economic-summit-01-14-2016-7388
END:VEVENT

END:VCALENDAR
