BEGIN:VCALENDAR
VERSION:2.0
PRODID:-//ChamberMaster//Event Calendar 2.0//EN
METHOD:PUBLISH
X-PUBLISHED-TTL:P3D
REFRESH-INTERVAL:P3D
CALSCALE:GREGORIAN
BEGIN:VEVENT
DTSTART:20150725T000000Z
DTEND:20150725T040000Z
X-MICROSOFT-CDO-ALLDAYEVENT:FALSE
SUMMARY:Washington City Pioneer Day Celebration
DESCRIPTION:Get FRONT ROW seating at the WCCC aquatic center for the 24th of July fireworks show in Washington City. Bring family and friends for a night of fun. From 6-10 p.m. check out vendors\, food trucks\, games\, hours of swim and more! Fireworks show starts at dark. Enjoy the holiday by staying cool in our leisure pool!
X-ALT-DESC;FMTTYPE=text/html:<span style="color:black\;"><span style="font-family:arial\,sans-serif\;"><span style="font-size:11.0pt\;">Get FRONT ROW seating at the WCCC aquatic center for the 24th of July fireworks show in Washington City. Bring family and friends for a night of fun. From 6-10 p.m. check out vendors\, food trucks\, games\, hours of swim and more! Fireworks show starts at dark. Enjoy the holiday by staying cool in our leisure pool!&nbsp\;</span></span></span>
LOCATION:Washington City Community Center 350 Community Center Drive Washington\, UT
UID:e.1117.6978
SEQUENCE:3
DTSTAMP:20260420T133805Z
URL:https://business.stgeorgechamber.com/events/details/washington-city-pioneer-day-celebration-07-24-2015-6978
END:VEVENT

END:VCALENDAR
