BEGIN:VCALENDAR
VERSION:2.0
PRODID:-//ChamberMaster//Event Calendar 2.0//EN
METHOD:PUBLISH
X-PUBLISHED-TTL:P3D
REFRESH-INTERVAL:P3D
CALSCALE:GREGORIAN
BEGIN:VEVENT
DTSTART:20160101T000000Z
DTEND:20160101T065500Z
X-MICROSOFT-CDO-ALLDAYEVENT:FALSE
SUMMARY:Washington City New Year's Eve Family Fun Fest
DESCRIPTION:Washington City Community Center and McMullin Legal Group are excited to present the touring violin group\, The Five Strings as well as Sean Bott the Mentalist. Don't miss out on the firework show\, dive in movie showing Inside Out\, cash/prize drop\, face painting\, Giant Jenga game\, Cannonball Air Blasters\, Mechanical Bull\, Pie in the face and more! Make sure to remember the night with a yellowpix.com Photo.
X-ALT-DESC;FMTTYPE=text/html:<p class="c5" style="font-family: Arial\; font-size: 11pt\; margin: 0px\; padding: 7px 0px\; color: rgb(0\, 0\, 0)\; orphans: 2\; widows: 2\; direction: ltr\; line-height: normal\;"><span style="font-size:14px\;"><span style="font-family:arial\;"><span class="c0">Washington City Community Center and McMullin Legal Group are excited to present the touring violin group\, The Five Strings as well as Sean Bott the Mentalist. Don&#39\;t miss out on the firework show\, dive in movie showing Inside Out\, cash/prize drop\, face painting\, Giant Jenga game\, Cannonball Air Blasters\, Mechanical Bull\, Pie in the face and more! Make sure to remember the night with a yellowpix.com Photo.&nbsp\;</span></span></span></p>\n\n<div>&nbsp\;</div>\n
LOCATION:Washington City Community Center 350 Community Center Drive
UID:e.1117.7381
SEQUENCE:3
DTSTAMP:20260420T031918Z
URL:https://business.stgeorgechamber.com/events/details/washington-city-new-year-s-eve-family-fun-fest-12-31-2015-7381
END:VEVENT

END:VCALENDAR
