BEGIN:VCALENDAR
VERSION:2.0
PRODID:-//ChamberMaster//Event Calendar 2.0//EN
METHOD:PUBLISH
X-PUBLISHED-TTL:P3D
REFRESH-INTERVAL:P3D
CALSCALE:GREGORIAN
BEGIN:VEVENT
DTSTART:20150101T000000Z
DTEND:20150101T065500Z
X-MICROSOFT-CDO-ALLDAYEVENT:FALSE
SUMMARY:Washington City New Year's Eve Family Fun Fest
DESCRIPTION:Bring in the New Year at a bubble party and fireworks show. This family festival will have a cash and balloon drop\, live music\, and mountains of bubbles to play in. Other activities include Swimming\, a "Dive in Movie"\, Free Family Photos\, Bubble Foam Launches\, Character Visits\, Face Painting\, Balloon Tying\, Bounce Houses\, Giant Water Slide\, Water Walkers\, Vendor Booths\, & More! Celebrate with families from all over Washington County and join us in watching the New York Ball Drop.
X-ALT-DESC;FMTTYPE=text/html:<span style="color: rgb(0\, 0\, 0)\; font-family: Arial\, sans-serif\; white-space: pre-wrap\;">Bring in the New Year at a bubble party and fireworks show. This family festival will have a cash and balloon drop\, live music\, and mountains of bubbles to play in. Other activities include Swimming\, a &ldquo\;Dive in Movie&rdquo\;\, Free Family Photos\, Bubble Foam Launches\, Character Visits\, Face Painting\, Balloon Tying\, Bounce Houses\, Giant Water Slide\, Water Walkers\, Vendor Booths\, &amp\; More! Celebrate with families from all over Washington County and join us in watching the New York Ball Drop. </span>
LOCATION:Washington City Community Center 350 Community Center Drive
UID:e.1117.6241
SEQUENCE:3
DTSTAMP:20260420T235447Z
URL:https://business.stgeorgechamber.com/events/details/washington-city-new-year-s-eve-family-fun-fest-12-31-2014-6241
END:VEVENT

END:VCALENDAR
