BEGIN:VCALENDAR
VERSION:2.0
PRODID:-//ChamberMaster//Event Calendar 2.0//EN
METHOD:PUBLISH
X-PUBLISHED-TTL:P3D
REFRESH-INTERVAL:P3D
CALSCALE:GREGORIAN
BEGIN:VEVENT
DTSTART:20140712T020000Z
DTEND:20140712T040000Z
X-MICROSOFT-CDO-ALLDAYEVENT:FALSE
SUMMARY:Washington City Movies in the Park: Monsters University
DESCRIPTION:Join Washington City for some good old fashioned fun!  \n\n\n\nLive music\n\nFree Ice Cream & Popcorn\n\nFun Vendor Booths and Games
X-ALT-DESC;FMTTYPE=text/html:Join Washington City for some good old fashioned fun! &nbsp\;<br />\n<br />\nLive music<br />\nFree Ice Cream &amp\; Popcorn<br />\nFun Vendor Booths and Games
LOCATION:Veterans Park 75 E. Telegraph St. Washington\, Utah
UID:e.1117.5894
SEQUENCE:3
DTSTAMP:20260421T071540Z
URL:https://business.stgeorgechamber.com/events/details/washington-city-movies-in-the-park-monsters-university-07-11-2014-5894
END:VEVENT

END:VCALENDAR
