BEGIN:VCALENDAR
VERSION:2.0
PRODID:-//ChamberMaster//Event Calendar 2.0//EN
METHOD:PUBLISH
X-PUBLISHED-TTL:P3D
REFRESH-INTERVAL:P3D
CALSCALE:GREGORIAN
BEGIN:VEVENT
DTSTART:20130503T000000Z
DTEND:20130503T020000Z
X-MICROSOFT-CDO-ALLDAYEVENT:FALSE
SUMMARY:Washington City Cotton Days Youth Fishing Derby
DESCRIPTION:Youth Fishing Derby- Bring your poles and fish\, fish\, fish! Washington City Royalty will be giving out prizes and awards.
X-ALT-DESC;FMTTYPE=text/html:Youth Fishing Derby- Bring your poles and fish\, fish\, fish! Washington City Royalty will be giving out prizes and awards.&nbsp\;
LOCATION:Razor Ridge Urban Fishery 1934 N Coral Ridge Dr
UID:e.1117.2952
SEQUENCE:3
DTSTAMP:20260422T042045Z
URL:https://business.stgeorgechamber.com/events/details/washington-city-cotton-days-youth-fishing-derby-05-02-2013-2952
END:VEVENT

END:VCALENDAR
