BEGIN:VCALENDAR
VERSION:2.0
PRODID:-//ChamberMaster//Event Calendar 2.0//EN
METHOD:PUBLISH
X-PUBLISHED-TTL:P3D
REFRESH-INTERVAL:P3D
CALSCALE:GREGORIAN
BEGIN:VEVENT
DTSTART:20130501T000000Z
DTEND:20130501T020000Z
X-MICROSOFT-CDO-ALLDAYEVENT:FALSE
SUMMARY:Washington City Cotton Days Ice Cream Social
DESCRIPTION:Ice Cream Social- Enjoy hayride tours of historical Washington City\, square dancing\, and of course Ice Cream!
X-ALT-DESC;FMTTYPE=text/html:Ice Cream Social- Enjoy hayride tours of historical Washington City\, square dancing\, and of course Ice Cream!
LOCATION:Washington City Historic Museum
UID:e.1117.2951
SEQUENCE:3
DTSTAMP:20260422T062123Z
URL:https://business.stgeorgechamber.com/events/details/washington-city-cotton-days-ice-cream-social-04-30-2013-2951
END:VEVENT

END:VCALENDAR
