BEGIN:VCALENDAR
VERSION:2.0
PRODID:-//ChamberMaster//Event Calendar 2.0//EN
METHOD:PUBLISH
X-PUBLISHED-TTL:P3D
REFRESH-INTERVAL:P3D
CALSCALE:GREGORIAN
BEGIN:VEVENT
DTSTART:20140426T130000Z
DTEND:20140427T023000Z
X-MICROSOFT-CDO-ALLDAYEVENT:FALSE
SUMMARY:Washington City Cotton Days Fest
DESCRIPTION:Cotton Fest- Veterans Park Celebrate the birth of our great city with a day in the park. Food\, vendors\, live entertainment\, and games.
X-ALT-DESC;FMTTYPE=text/html:Cotton Fest- Veterans Park Celebrate the birth of our great city with a day in the park. Food\, vendors\, live entertainment\, and games.
LOCATION:Veterans Park 75 E Telegraph
UID:e.1117.5203
SEQUENCE:3
DTSTAMP:20260421T125912Z
URL:https://business.stgeorgechamber.com/events/details/washington-city-cotton-days-fest-04-26-2014-5203
END:VEVENT

END:VCALENDAR
