BEGIN:VCALENDAR
VERSION:2.0
PRODID:-//ChamberMaster//Event Calendar 2.0//EN
METHOD:PUBLISH
X-PUBLISHED-TTL:P3D
REFRESH-INTERVAL:P3D
CALSCALE:GREGORIAN
BEGIN:VEVENT
DTSTART:20130501T000000Z
DTEND:20130501T030000Z
X-MICROSOFT-CDO-ALLDAYEVENT:FALSE
SUMMARY:Washington City Cotton Days Barrel Racing
DESCRIPTION:
X-ALT-DESC;FMTTYPE=text/html:<br />\n
LOCATION:Millcreek Ranch
UID:e.1117.2950
SEQUENCE:3
DTSTAMP:20260422T062031Z
URL:https://business.stgeorgechamber.com/events/details/washington-city-cotton-days-barrel-racing-04-30-2013-2950
END:VEVENT

END:VCALENDAR
