BEGIN:VCALENDAR
VERSION:2.0
PRODID:-//ChamberMaster//Event Calendar 2.0//EN
METHOD:PUBLISH
X-PUBLISHED-TTL:P3D
REFRESH-INTERVAL:P3D
CALSCALE:GREGORIAN
BEGIN:VEVENT
DTSTART:20130430T000000Z
DTEND:20130430T030000Z
X-MICROSOFT-CDO-ALLDAYEVENT:FALSE
SUMMARY:Washington City Community Center 5th Year Anniversary Celebration
DESCRIPTION:Face painting\, swimming\, rock wall\, live entertainment\, petting zoo\, cow train\, bounce houses\, western food\, and more!
X-ALT-DESC;FMTTYPE=text/html:Face painting\, swimming\, rock wall\, live entertainment\, petting zoo\, cow train\, bounce houses\, western food\, and more!<br />\n
LOCATION:Washington City Community Center 350 North Community Center Drive Washington\, Utah
UID:e.1117.2949
SEQUENCE:3
DTSTAMP:20260422T075949Z
URL:https://business.stgeorgechamber.com/events/details/washington-city-community-center-5th-year-anniversary-celebration-04-29-2013-2949
END:VEVENT

END:VCALENDAR
