BEGIN:VCALENDAR
VERSION:2.0
PRODID:-//ChamberMaster//Event Calendar 2.0//EN
METHOD:PUBLISH
X-PUBLISHED-TTL:P3D
REFRESH-INTERVAL:P3D
CALSCALE:GREGORIAN
BEGIN:VEVENT
DTSTART:20130926T010000Z
DTEND:20130926T030000Z
X-MICROSOFT-CDO-ALLDAYEVENT:FALSE
SUMMARY:Walk Washington County
DESCRIPTION:Walk Washington County\, an ongoing CareCentennial walking celebration\, invites participants to explore Washington County while improving their health. Each month a different city will host a beautiful walk that explores the history of the city (walks vary in length and are easy to moderate in difficulty). \n\nThe Walk Washington County event series is well under way with eight completed walks\, and hundreds in attendance at each event. The ninth walk will take place in Santa Clara as part of the Swiss Days celebration with Mayor Rick Rosenberg.\n\nParticipants will receive a free\, wooden walking stick at their first walk and a medallion representing each city walk in which they participate. Participants who complete all 12 walks will be eligible for a prize drawing to win a full medical fitness evaluation including a personal health coach for one month through the Intermountain LiVe Well Center and other prizes.
X-ALT-DESC;FMTTYPE=text/html:<span style="font-family:times new roman\,serif\;"><span style="font-size:12.0pt\;">Walk Washington County\, an ongoing CareCentennial walking celebration\, invites participants to explore Washington County while improving their health. Each month a different city will host a beautiful walk that explores the history of the city (walks vary in length and are easy to moderate in difficulty). </span></span><br />\n<span style="font-family:times new roman\,serif\;"><span style="font-size:12.0pt\;">The Walk Washington County event series is well under way with eight completed walks\, and hundreds in attendance at each event. The ninth walk will take place in Santa Clara as part of the Swiss Days celebration with Mayor Rick Rosenberg.</span></span><br />\n<span style="font-family:times new roman\,serif\;"><span style="font-size:12.0pt\;">Participants will receive a free\, wooden walking stick at their first walk and a medallion representing each city walk in which they participate. Participants who complete all 12 walks will be eligible for a prize drawing to win a full medical fitness evaluation including a personal health coach for one month through the Intermountain LiVe Well Center and other prizes.</span></span><br />\n
LOCATION:Santa Clara Town Hall\, 2603 Santa Clara Drive. Participants should bring water and carpool if possible.
UID:e.1117.4290
SEQUENCE:3
DTSTAMP:20260421T213145Z
URL:https://business.stgeorgechamber.com/events/details/walk-washington-county-09-25-2013-4290
END:VEVENT

END:VCALENDAR
