BEGIN:VCALENDAR
VERSION:2.0
PRODID:-//ChamberMaster//Event Calendar 2.0//EN
METHOD:PUBLISH
X-PUBLISHED-TTL:P3D
REFRESH-INTERVAL:P3D
CALSCALE:GREGORIAN
BEGIN:VEVENT
DTSTART:20130824T160000Z
DTEND:20130824T180000Z
X-MICROSOFT-CDO-ALLDAYEVENT:FALSE
SUMMARY:Walk Washington County
DESCRIPTION:Join us in August as part of the CornFest with Mayor Lee Bracken for our walk in Enterprise. Walk Washington County is an ongoing commemoration of 100 years of hospital care in St. George. Attendees explore the county while improving their health. Walks vary in length and are easy to moderate in difficulty.\n\n	A representative from the Intermountain LiVe Well Center will be at each walk to motivate and to answer health-related questions along the way. \n\n	Participants age 12 and older will receive a free\, wooden walking stick at their first walk and a medallion representing each city walk in which they participate. Participants who earn all 12 medallions will be eligible for a prize-drawing to win a full medical fitness evaluation including a personal health coach for one month through the Intermountain LiVe Well Center and other prizes.
X-ALT-DESC;FMTTYPE=text/html:<p>\n	<span style="font-size:14px\;"><span style="font-family: arial\;">Join us in August as part of the CornFest with Mayor Lee Bracken for our walk in Enterprise.&nbsp\;Walk Washington County is an ongoing commemoration of 100 years of hospital care in St. George. Attendees explore the county while improving their health. Walks vary in length and are easy to moderate in difficulty.<br />\n	A representative from the Intermountain LiVe Well Center will be at each walk to motivate and to answer health-related questions along the way.&nbsp\;<br />\n	Participants age 12 and older will receive a free\, wooden walking stick at their first walk and a medallion representing each city walk in which they participate. Participants who earn all 12 medallions will be eligible for a prize-drawing to win a full medical fitness evaluation including a personal health coach for one month through the Intermountain LiVe Well Center and other prizes.</span></span></p>\n
LOCATION:Enterprise Elementary
UID:e.1117.3883
SEQUENCE:3
DTSTAMP:20260421T083004Z
URL:https://business.stgeorgechamber.com/events/details/walk-washington-county-08-24-2013-3883
END:VEVENT

END:VCALENDAR
