BEGIN:VCALENDAR
VERSION:2.0
PRODID:-//ChamberMaster//Event Calendar 2.0//EN
METHOD:PUBLISH
X-PUBLISHED-TTL:P3D
REFRESH-INTERVAL:P3D
CALSCALE:GREGORIAN
BEGIN:VEVENT
DTSTART:20141108T180000Z
DTEND:20141108T200000Z
X-MICROSOFT-CDO-ALLDAYEVENT:FALSE
SUMMARY:Walk to End Lupus Now
DESCRIPTION:The Lupus Foundation of America\, Utah Chapter's Walk to End Lupus Now helps raise money and awareness in St. George. Includes walk\, live music\, prize drawing\, kids tent & more!
X-ALT-DESC;FMTTYPE=text/html:The Lupus Foundation of America\, Utah Chapter&#39\;s Walk to End Lupus Now helps raise money and awareness in St. George. Includes walk\, live music\, prize drawing\, kids tent &amp\; more!
LOCATION:Vernon-Worthen Park
UID:e.1117.6139
SEQUENCE:3
DTSTAMP:20260421T012441Z
URL:https://business.stgeorgechamber.com/events/details/walk-to-end-lupus-now-11-08-2014-6139
END:VEVENT

END:VCALENDAR
