BEGIN:VCALENDAR
VERSION:2.0
PRODID:-//ChamberMaster//Event Calendar 2.0//EN
METHOD:PUBLISH
X-PUBLISHED-TTL:P3D
REFRESH-INTERVAL:P3D
CALSCALE:GREGORIAN
BEGIN:VEVENT
DTSTART:20130629T160000Z
DTEND:20130629T220000Z
X-MICROSOFT-CDO-ALLDAYEVENT:FALSE
SUMMARY:Virgin River Skimboard Classic
DESCRIPTION:No wild waves here\, just sweet flatland ideal for skimboarding. Competitors will compete for prizes for Open\, 16-18 years old\, 13-15 years\, 10-12 years and 9 & younger divisions. Pre-registration guarantees event t-shirt.
X-ALT-DESC;FMTTYPE=text/html:<span style="color: rgb(0\, 0\, 0)\; font-family: 'Times New Roman'\; font-size: 14px\;">No wild waves here\, just sweet flatland ideal for skimboarding. Competitors will compete for prizes for Open\, 16-18 years old\, 13-15 years\, 10-12 years and 9 &amp\; younger divisions. Pre-registration guarantees event t-shirt.</span>
LOCATION:Virgin River Waterfall
UID:e.1117.4177
SEQUENCE:3
DTSTAMP:20260422T023507Z
URL:https://business.stgeorgechamber.com/events/details/virgin-river-skimboard-classic-06-29-2013-4177
END:VEVENT

END:VCALENDAR
