BEGIN:VCALENDAR
VERSION:2.0
PRODID:-//ChamberMaster//Event Calendar 2.0//EN
METHOD:PUBLISH
X-PUBLISHED-TTL:P3D
REFRESH-INTERVAL:P3D
CALSCALE:GREGORIAN
BEGIN:VEVENT
DTSTART:20131111T160000Z
DTEND:20131111T183000Z
X-MICROSOFT-CDO-ALLDAYEVENT:FALSE
SUMMARY:Veterans Day Parade
DESCRIPTION:Lester Keate Post 90 of the American Legion is proud to be a patriotic veterans organization devoted to mutual helpfulness. We consistently commit ourselves to the mentoring and sponsorship of youth programs in our community\, advocating patriotism and honor. We are devoted to our fellow service members and veterans. \n\n\n\nJoin them as tehy honor and "Thank All Who Serve" at this year's Veterans Day Parade.\n\n\n\nWe offer and participate in many local programs and activities to strengthen our commitment to each other and the people we serve. We work hard to maintain one of the finest military honor guards in the state of Utah\, striving to offer the highest quality military honors we are capable of achieving on behalf of our fellow deceased veterans and their loving families. We are committed to participating in many opportunities to ensure the continuation of the fine traditions established by the objectives of the national American Legion\, the well-being of our members\, our fine Women's Auxiliary and the future success of our youth.
X-ALT-DESC;FMTTYPE=text/html:Lester Keate Post 90 of the American Legion is proud to be a patriotic veterans organization devoted to mutual helpfulness. We consistently commit ourselves to the mentoring and sponsorship of youth programs in our community\, advocating patriotism and honor. We are devoted to our fellow service members and veterans.&nbsp\;<br />\n<br />\nJoin them as tehy honor and &quot\;Thank All Who Serve&quot\; at this year&#39\;s Veterans Day Parade.<br />\n<br />\nWe offer and participate in many local programs and activities to strengthen our commitment to each other and the people we serve. We work hard to maintain one of the finest military honor guards in the state of Utah\, striving to offer the highest quality military honors we are capable of achieving on behalf of our fellow deceased veterans and their loving families. We are committed to participating in many opportunities to ensure the continuation of the fine traditions established by the objectives of the national American Legion\, the well-being of our members\, our fine Women&#39\;s Auxiliary and the future success of our youth.
LOCATION:Parade Route: 200 West Tabernacle to 300 East
UID:e.1117.4937
SEQUENCE:3
DTSTAMP:20260421T182438Z
URL:https://business.stgeorgechamber.com/events/details/veterans-day-parade-11-11-2013-4937
END:VEVENT

END:VCALENDAR
