BEGIN:VCALENDAR
VERSION:2.0
PRODID:-//ChamberMaster//Event Calendar 2.0//EN
METHOD:PUBLISH
X-PUBLISHED-TTL:P3D
REFRESH-INTERVAL:P3D
CALSCALE:GREGORIAN
BEGIN:VEVENT
DTSTART:20241111T203000Z
DTEND:20241111T213000Z
X-MICROSOFT-CDO-ALLDAYEVENT:FALSE
SUMMARY:Veterans Day Commemoration Event
DESCRIPTION:A celebration to honor America's Veterans for their patriotism\, love of country\, and for their willingness to serve and sacrifice for the common good.
X-ALT-DESC;FMTTYPE=text/html:<span style="font-size:22px\;">A celebration to honor America&rsquo\;s Veterans for their patriotism\, love of country\, and for their willingness to serve and sacrifice for the common good.</span>
LOCATION:Utah Tech University North Encampment Mall 225 South University Avenue St. George\, UT 84770
UID:e.1117.17647
SEQUENCE:3
DTSTAMP:20260423T013547Z
URL:https://business.stgeorgechamber.com/events/details/veterans-day-commemoration-event-17647
END:VEVENT

END:VCALENDAR
