BEGIN:VCALENDAR
VERSION:2.0
PRODID:-//ChamberMaster//Event Calendar 2.0//EN
METHOD:PUBLISH
X-PUBLISHED-TTL:P3D
REFRESH-INTERVAL:P3D
CALSCALE:GREGORIAN
BEGIN:VEVENT
DTSTART;VALUE=DATE:20141111
DTEND;VALUE=DATE:20141112
TRANSP:TRANSPARENT
X-MICROSOFT-CDO-ALLDAYEVENT:TRUE
SUMMARY:Veteran's Day
DESCRIPTION:Veterans parade\, 11:11 a.m.\, starting at 300 East in Washington City and finishing at Veterans Park\, 75 E. Telegraph Street.\n\n  Veterans memorial dedication\, 3 p.m. at the Canyon Community Center\, 126 Lion Boulevard in Springdale.\n\n  Historical train dedication\, 4 p.m. at the Southern Utah Veterans Home\, 160 N. 200 East\, Ivins.
X-ALT-DESC;FMTTYPE=text/html:<p style="margin: 0px 0px 15px 60px\; font-stretch: normal\; font-size: 14px\; line-height: 22px\; font-family: arial\, sans-serif\;">Veterans parade\, 11:11 a.m.\, starting at 300 East in Washington City and finishing at Veterans Park\, 75 E. Telegraph Street.</p>\n\n<p style="margin: 0px 0px 15px 60px\; font-stretch: normal\; font-size: 14px\; line-height: 22px\; font-family: arial\, sans-serif\;">&bull\; Veterans memorial dedication\, 3 p.m. at the Canyon Community Center\, 126 Lion Boulevard in Springdale.</p>\n\n<p style="margin: 0px 0px 15px 60px\; font-stretch: normal\; font-size: 14px\; line-height: 22px\; font-family: arial\, sans-serif\;">&bull\; Historical train dedication\, 4 p.m. at the Southern Utah Veterans Home\, 160 N. 200 East\, Ivins.</p>\n
LOCATION:
UID:e.1117.6201
SEQUENCE:3
DTSTAMP:20260421T025614Z
URL:https://business.stgeorgechamber.com/events/details/veteran-s-day-11-11-2014-6201
END:VEVENT

END:VCALENDAR
